BEGIN:VCALENDAR
VERSION:2.0
PRODID:-//urwahl3000//gruene-aurich.org//DE
CALSCALE:GREGORIAN
BEGIN:VEVENT
DTSTART:20260308T110000
DTEND:20260308T110000
LOCATION:Zwischenraum\, Osterstrasse 28-30 Aurich
DTSTAMP:20260308T110000
SUMMARY:Weltfrauentag/Grünes Frauenfrühstück/Demo/Konzert: Stiller Lärm
URL;VALUE=URI:https://gruene-aurich.org/termin/weltfrauentag-gruenes-frauenfruehstueck-demo-stiller-laerm/
DESCRIPTION:<strong>Am 08.03.zum Weltfrauentag findet ab 11.00 im Zwischenraum ein Frauenfrühstück statt</strong>,
bevor es um <strong>13.30 zur Demo an der Sparkassenarena</strong> geht. <strong>Ab 16.00</strong> heizt uns <strong>Stiller Lärm</strong> im
Zwischenraum ein, zu dem alle herzlich willkommen sind.
Wir wollen mit Frauen auch aus anderen Initiativen ins Gespräch kommen und hoffen auf
lebhafte Teilnahme frei nach dem Motto „ Demokratie geht auch durch den Magen“ Über
Anmeldungen bis zum 3. März würden wir uns freuen, spontane Teilnahme ist auch möglich.
UID:20260308T110000-20260308T110000-20260308T110000
END:VEVENT
END:VCALENDAR